{
 "currentVersion": 11.5,
 "serviceDescription": "Watershed_Rasters/One_Percent_Chance_EBMCr",
 "name": "Watershed_Rasters/One_Percent_Chance_EBMCr",
 "description": "",
 "extent": {
  "xmin": 788288.0086707207,
  "ymin": 459912.18385,
  "xmax": 796448.0086707207,
  "ymax": 470107.18385,
  "spatialReference": {
   "wkid": 103412,
   "latestWkid": 8193
  }
 },
 "initialExtent": {
  "xmin": 788288.0086707207,
  "ymin": 459912.18385,
  "xmax": 796448.0086707207,
  "ymax": 470107.18385,
  "spatialReference": {
   "wkid": 103412,
   "latestWkid": 8193
  }
 },
 "fullExtent": {
  "xmin": 788288.0086707207,
  "ymin": 459912.18385,
  "xmax": 796448.0086707207,
  "ymax": 470107.18385,
  "spatialReference": {
   "wkid": 103412,
   "latestWkid": 8193
  }
 },
 "sortableFields": "",
 "bandCount": 1,
 "pixelType": "F64",
 "minValues": [
  0.01
 ],
 "maxValues": [
  10.99
 ],
 "meanValues": [
  1.2640558072338
 ],
 "stdvValues": [
  1.5973394183374
 ],
 "serviceProperties": "Center<\/MosaicMethod>First<\/MosaicOperator>true<\/SortAscending><\/LockImageID><\/TileOrderField>0<\/TileOrderBase>0.000000<\/AvgImageSpacingX>0.000000<\/AvgImageSpacingY>0.0<\/ViewPointX>0.0<\/ViewPointY>0.0<\/ViewPointDefShiftX>0.0<\/ViewPointDefShiftY>None<\/CompressionMethod>75<\/CompressionQuality>0.010000<\/CompressionTolerance>Bilinear<\/SamplingMethod><\/ImageServiceProperties><\/ImageServer>",
 "allowedFields": "",
 "hasMultidimensions": false,
 "pixelSizeX": 5,
 "pixelSizeY": 5,
 "meanPixelSize": 1.5240030480060962,
 "datasetFormat": "TIFF",
 "uncompressedSize": 26621184,
 "blockWidth": 128,
 "blockHeight": 128,
 "compressionType": "None",
 "bandNames": [
  "Band_1"
 ],
 "allowCopy": true,
 "allowAnalysis": true,
 "itemAccess": false,
 "inspectionCapabilities": "",
 "noDataValue": 0,
 "noDataValues": [
  0
 ],
 "minPixelSize": 0,
 "maxPixelSize": 0,
 "copyrightText": "",
 "serviceDataType": "esriImageServiceDataTypeGeneric",
 "serviceSourceType": "esriImageServiceSourceTypeDataset",
 "objectIdField": "",
 "fields": [],
 "capabilities": "Image,Metadata,Mensuration",
 "defaultMosaicMethod": "Center",
 "allowedMosaicMethods": "",
 "sortField": "",
 "sortValue": null,
 "sortAscending": true,
 "mosaicOperator": "First",
 "defaultCompressionQuality": 75,
 "defaultResamplingMethod": "Bilinear",
 "maxImageHeight": 4100,
 "maxImageWidth": 15000,
 "allowRasterFunction": true,
 "rasterFunctionInfos": [
  {
   "name": "None",
   "description": "",
   "help": ""
  }
 ],
 "rasterTypeInfos": [
  {
   "name": "Raster Dataset",
   "description": "Supports all ArcGIS Raster Datasets",
   "help": ""
  }
 ],
 "mensurationCapabilities": "Basic",
 "hasHistograms": true,
 "hasColormap": false,
 "hasRasterAttributeTable": false,
 "minScale": 0,
 "maxScale": 0,
 "exportTilesAllowed": false,
 "supportsStatistics": false,
 "supportsAdvancedQueries": false,
 "editFieldsInfo": null,
 "ownershipBasedAccessControlForRasters": null,
 "allowComputeTiePoints": false,
 "useStandardizedQueries": true,
 "advancedQueryCapabilities": {
  "useStandardizedQueries": true,
  "supportsStatistics": false,
  "supportsOrderBy": false,
  "supportsDistinct": false,
  "supportsPagination": false
 },
 "spatialReference": {
  "wkid": 103412,
  "latestWkid": 8193
 }
}
