View In:
ArcGIS JavaScript
ArcGIS Online Map Viewer
ArcGIS Earth
Service Description: Watershed_Rasters/One_Percent_Chance_DM
Name: Watershed_Rasters/One_Percent_Chance_DM
Description:
Single Fused Map Cache: false
Extent:
XMin: 796781.429
YMin: 464522.702
XMax: 803731.429
YMax: 469972.702
Spatial Reference: 103412
(8193)
LatestVCSWkid(0)
Initial Extent:
XMin: 796781.429
YMin: 464522.702
XMax: 803731.429
YMax: 469972.702
Spatial Reference: 103412
(8193)
LatestVCSWkid(0)
Full Extent:
XMin: 796781.429
YMin: 464522.702
XMax: 803731.429
YMax: 469972.702
Spatial Reference: 103412
(8193)
LatestVCSWkid(0)
Pixel Size X: 2.5
Pixel Size Y: 2.5
Band Count: 1
Pixel Type: F32
RasterFunction Infos: {"rasterFunctionInfos": [{
"name": "None",
"description": "",
"help": ""
}]}
Mensuration Capabilities: Basic
Inspection Capabilities:
Has Histograms: true
Has Colormap: false
Has Multi Dimensions : false
Rendering Rule:
Min Scale: 0
Max Scale: 0
Copyright Text:
Service Data Type: esriImageServiceDataTypeGeneric
Min Values: 0.0010000000474975
Max Values: 12.21399974823
Mean Values: 1.0154784359583
Standard Deviation Values: 1.5054891924307
Object ID Field:
Fields:
None
Default Mosaic Method: Center
Allowed Mosaic Methods:
SortField:
SortValue: null
Mosaic Operator: First
Default Compression Quality: 75
Default Resampling Method: Bilinear
Max Record Count: null
Max Image Height: 4100
Max Image Width: 15000
Max Download Image Count: null
Max Mosaic Image Count: null
Allow Raster Function: true
Allow Copy: true
Allow Analysis: true
Allow Compute TiePoints: false
Supports Statistics: false
Supports Advanced Queries: false
Use StandardizedQueries: true
Raster Type Infos:
Name: Raster Dataset
Description: Supports all ArcGIS Raster Datasets
Help:
Has Raster Attribute Table: false
Edit Fields Info: null
Ownership Based AccessControl For Rasters: null
Child Resources:
Info
Histograms
Statistics
Key Properties
Legend
Raster Function Infos
Supported Operations:
Export Image
Identify
Measure
Compute Histograms
Compute Statistics Histograms
Get Samples
Compute Class Statistics
Query Boundary
Compute Pixel Location
Compute Angles
Validate
Project