View In:
ArcGIS JavaScript
ArcGIS Online Map Viewer
ArcGIS Earth
Service Description: Watershed_Rasters/One_Percent_Chance_LBMCr
Name: Watershed_Rasters/One_Percent_Chance_LBMCr
Description:
Single Fused Map Cache: false
Extent:
XMin: 768214.3376242304
YMin: 464608.21449218696
XMax: 778519.3376242304
YMax: 483288.21449218696
Spatial Reference: 0
(0)
LatestVCSWkid(0)
Initial Extent:
XMin: 768214.3376242304
YMin: 464608.21449218696
XMax: 778519.3376242304
YMax: 483288.21449218696
Spatial Reference: 0
(0)
LatestVCSWkid(0)
Full Extent:
XMin: 768214.3376242304
YMin: 464608.21449218696
XMax: 778519.3376242304
YMax: 483288.21449218696
Spatial Reference: 0
(0)
LatestVCSWkid(0)
Pixel Size X: 5.0
Pixel Size Y: 5.0
Band Count: 1
Pixel Type: F64
RasterFunction Infos: {"rasterFunctionInfos": [{
"name": "None",
"description": "",
"help": ""
}]}
Mensuration Capabilities: Basic
Inspection Capabilities:
Has Histograms: true
Has Colormap: false
Has Multi Dimensions : false
Rendering Rule:
Min Scale: 0
Max Scale: 0
Copyright Text:
Service Data Type: esriImageServiceDataTypeGeneric
Min Values: 0
Max Values: 17.03
Mean Values: 0.66408012252522
Standard Deviation Values: 1.5976694827721
Object ID Field:
Fields:
None
Default Mosaic Method: Center
Allowed Mosaic Methods:
SortField:
SortValue: null
Mosaic Operator: First
Default Compression Quality: 75
Default Resampling Method: Bilinear
Max Record Count: null
Max Image Height: 4100
Max Image Width: 15000
Max Download Image Count: null
Max Mosaic Image Count: null
Allow Raster Function: true
Allow Copy: true
Allow Analysis: true
Allow Compute TiePoints: false
Supports Statistics: false
Supports Advanced Queries: false
Use StandardizedQueries: true
Raster Type Infos:
Name: Raster Dataset
Description: Supports all ArcGIS Raster Datasets
Help:
Has Raster Attribute Table: false
Edit Fields Info: null
Ownership Based AccessControl For Rasters: null
Child Resources:
Info
Histograms
Statistics
Key Properties
Legend
Raster Function Infos
Supported Operations:
Export Image
Identify
Measure
Compute Histograms
Compute Statistics Histograms
Get Samples
Compute Class Statistics
Query Boundary
Compute Pixel Location
Compute Angles
Validate
Project