View In:
ArcGIS JavaScript
ArcGIS Online Map Viewer
ArcGIS Earth
Service Description: Watershed_Rasters/One_Percent_Chance_SM
Name: Watershed_Rasters/One_Percent_Chance_SM
Description:
Single Fused Map Cache: false
Extent:
XMin: 786070.9831999999
YMin: 482152.60730000003
XMax: 797530.9835667199
YMax: 489082.60752176004
Spatial Reference: 103412
(8193)
LatestVCSWkid(0)
Initial Extent:
XMin: 786070.9831999999
YMin: 482152.60730000003
XMax: 797530.9835667199
YMax: 489082.60752176004
Spatial Reference: 103412
(8193)
LatestVCSWkid(0)
Full Extent:
XMin: 786070.9831999999
YMin: 482152.60730000003
XMax: 797530.9835667199
YMax: 489082.60752176004
Spatial Reference: 103412
(8193)
LatestVCSWkid(0)
Pixel Size X: 10.00000032000002
Pixel Size Y: 10.000000320000018
Band Count: 1
Pixel Type: F32
RasterFunction Infos: {"rasterFunctionInfos": [{
"name": "None",
"description": "",
"help": ""
}]}
Mensuration Capabilities: Basic
Inspection Capabilities:
Has Histograms: true
Has Colormap: false
Has Multi Dimensions : false
Rendering Rule:
Min Scale: 0
Max Scale: 0
Copyright Text:
Service Data Type: esriImageServiceDataTypeGeneric
Min Values: 0
Max Values: 12.67409992218
Mean Values: 0.93828092876291
Standard Deviation Values: 1.1214404481582
Object ID Field:
Fields:
None
Default Mosaic Method: Center
Allowed Mosaic Methods:
SortField:
SortValue: null
Mosaic Operator: First
Default Compression Quality: 75
Default Resampling Method: Bilinear
Max Record Count: null
Max Image Height: 4100
Max Image Width: 15000
Max Download Image Count: null
Max Mosaic Image Count: null
Allow Raster Function: true
Allow Copy: true
Allow Analysis: true
Allow Compute TiePoints: false
Supports Statistics: false
Supports Advanced Queries: false
Use StandardizedQueries: true
Raster Type Infos:
Name: Raster Dataset
Description: Supports all ArcGIS Raster Datasets
Help:
Has Raster Attribute Table: false
Edit Fields Info: null
Ownership Based AccessControl For Rasters: null
Child Resources:
Info
Histograms
Statistics
Key Properties
Legend
Raster Function Infos
Supported Operations:
Export Image
Identify
Measure
Compute Histograms
Compute Statistics Histograms
Get Samples
Compute Class Statistics
Query Boundary
Compute Pixel Location
Compute Angles
Validate
Project