View In:
ArcGIS JavaScript
ArcGIS Online Map Viewer
ArcGIS Earth
Service Description: Watershed_Rasters/One_Percent_Chance_WW
Name: Watershed_Rasters/One_Percent_Chance_WW
Description:
Single Fused Map Cache: false
Extent:
XMin: 793321.4657000001
YMin: 468298.90929999977
XMax: 806911.4661348801
YMax: 477328.90958895977
Spatial Reference: 103412
(8193)
LatestVCSWkid(0)
Initial Extent:
XMin: 793321.4657000001
YMin: 468298.90929999977
XMax: 806911.4661348801
YMax: 477328.90958895977
Spatial Reference: 103412
(8193)
LatestVCSWkid(0)
Full Extent:
XMin: 793321.4657000001
YMin: 468298.90929999977
XMax: 806911.4661348801
YMax: 477328.90958895977
Spatial Reference: 103412
(8193)
LatestVCSWkid(0)
Pixel Size X: 10.000000320000021
Pixel Size Y: 10.00000032
Band Count: 1
Pixel Type: F32
RasterFunction Infos: {"rasterFunctionInfos": [{
"name": "None",
"description": "",
"help": ""
}]}
Mensuration Capabilities: Basic
Inspection Capabilities:
Has Histograms: true
Has Colormap: false
Has Multi Dimensions : false
Rendering Rule:
Min Scale: 0
Max Scale: 0
Copyright Text:
Service Data Type: esriImageServiceDataTypeGeneric
Min Values: 0
Max Values: 8.2014999389648
Mean Values: 0.64351678914565
Standard Deviation Values: 0.81169996099063
Object ID Field:
Fields:
None
Default Mosaic Method: Center
Allowed Mosaic Methods:
SortField:
SortValue: null
Mosaic Operator: First
Default Compression Quality: 75
Default Resampling Method: Bilinear
Max Record Count: null
Max Image Height: 4100
Max Image Width: 15000
Max Download Image Count: null
Max Mosaic Image Count: null
Allow Raster Function: true
Allow Copy: true
Allow Analysis: true
Allow Compute TiePoints: false
Supports Statistics: false
Supports Advanced Queries: false
Use StandardizedQueries: true
Raster Type Infos:
Name: Raster Dataset
Description: Supports all ArcGIS Raster Datasets
Help:
Has Raster Attribute Table: false
Edit Fields Info: null
Ownership Based AccessControl For Rasters: null
Child Resources:
Info
Histograms
Statistics
Key Properties
Legend
Raster Function Infos
Supported Operations:
Export Image
Identify
Measure
Compute Histograms
Compute Statistics Histograms
Get Samples
Compute Class Statistics
Query Boundary
Compute Pixel Location
Compute Angles
Validate
Project